BEGIN:VCALENDAR
VERSION:2.0
PRODID:-//Orillia Museum of Art and History - ECPv6.15.15//NONSGML v1.0//EN
CALSCALE:GREGORIAN
METHOD:PUBLISH
X-WR-CALNAME:Orillia Museum of Art and History
X-ORIGINAL-URL:https://www.orilliamuseum.org
X-WR-CALDESC:Events for Orillia Museum of Art and History
REFRESH-INTERVAL;VALUE=DURATION:PT1H
X-Robots-Tag:noindex
X-PUBLISHED-TTL:PT1H
BEGIN:VTIMEZONE
TZID:UTC
BEGIN:STANDARD
TZOFFSETFROM:+0000
TZOFFSETTO:+0000
TZNAME:UTC
DTSTART:20180101T000000
END:STANDARD
END:VTIMEZONE
BEGIN:VEVENT
DTSTART;TZID=UTC:20191116T000000
DTEND;TZID=UTC:20200426T000000
DTSTAMP:20260424T114201
CREATED:20210325T190855Z
LAST-MODIFIED:20210325T190855Z
UID:10000051-1573862400-1587859200@www.orilliamuseum.org
SUMMARY:FIBRE CONTENT
DESCRIPTION:The 2018 Fibre Content Exhibition was the Fourth Biennial Juried Exhibition of Contemporary Fibre Art. It showcased 90 works by 60 artists from across Ontario\, in fabric\, paper\, yarn\, thread and mixed media materials. The goal of the exhibition is to raise the profile\, awareness and acceptance of fibre art as a fine art form. A selection of40 of these pieces form a smaller version that travel to museums and galleries across the province. This exhibition is organized by Fibrations. Fibrations is a not-for-profit organization originally founded to promote the work of fibre artists and quilt makers through both independent exhibitions and projects\, and in connection with other artistic events such as musical performances. The primary focus of the group over the last several years has become Fibre Content. This is a juried show of quilts and fibre art pieces by Canadian artists
URL:https://www.orilliamuseum.org/event/fibre-content/
LOCATION:Orillia Museum of Art & History\, 30 Peter Street South\, Orillia\, Ontario\, L3V 5A9
END:VEVENT
BEGIN:VEVENT
DTSTART;TZID=UTC:20191110T080000
DTEND;TZID=UTC:20191130T170000
DTSTAMP:20260424T114201
CREATED:20210325T190507Z
LAST-MODIFIED:20210325T190507Z
UID:10000050-1573372800-1575133200@www.orilliamuseum.org
SUMMARY:IT'S REVEALING: FUNDRAISER EXHIBITION
DESCRIPTION:“It’s Revealing” Fundraiser Exhibition will be on display from November 10-30 at Lee Contemporary Art\, located at 5 Peter Street South. This fundraiser\, held in association with Lee Contemporary Art\, features work created by the Thursday evening life-drawing group at the Orillia Museum of Art & History. The silent auction exhibition closes Saturday November 30. Please come support your local art community by bidding. Open hours for the exhibition are Saturdays 10am-4pm and Sundays 1-4pm. If you would like to arrange a viewing outside of these hours\, please emailprograms@orilliamuseum.org. Please note that Lee Contemporary Art is located in a heritage building and is regretfully not wheelchair accessible.  Coming December 6th: As part of the Drawliday Festival\, the “It’s Revealing” Exhibition and auction will be popping up in OMAH. Taking place in the Dorothy Macdonald Creative Studio\, this will be the final chance to view and bid on the works of art! Proceeds will be going back into OMAH’s creative studio to keep our programs exciting and educational
URL:https://www.orilliamuseum.org/event/its-revealing-fundraiser-exhibition/
LOCATION:Orillia Museum of Art & History\, 30 Peter Street South\, Orillia\, Ontario\, L3V 5A9
END:VEVENT
END:VCALENDAR